BEGIN:VCALENDAR
VERSION:2.0
PRODID:-//La Municipalité de Stoke - ECPv6.15.20//NONSGML v1.0//EN
CALSCALE:GREGORIAN
METHOD:PUBLISH
X-WR-CALNAME:La Municipalité de Stoke
X-ORIGINAL-URL:https://stoke.ca
X-WR-CALDESC:Évènements pour La Municipalité de Stoke
REFRESH-INTERVAL;VALUE=DURATION:PT1H
X-Robots-Tag:noindex
X-PUBLISHED-TTL:PT1H
BEGIN:VTIMEZONE
TZID:America/New_York
BEGIN:DAYLIGHT
TZOFFSETFROM:-0500
TZOFFSETTO:-0400
TZNAME:EDT
DTSTART:20220313T070000
END:DAYLIGHT
BEGIN:STANDARD
TZOFFSETFROM:-0400
TZOFFSETTO:-0500
TZNAME:EST
DTSTART:20221106T060000
END:STANDARD
BEGIN:DAYLIGHT
TZOFFSETFROM:-0500
TZOFFSETTO:-0400
TZNAME:EDT
DTSTART:20230312T070000
END:DAYLIGHT
BEGIN:STANDARD
TZOFFSETFROM:-0400
TZOFFSETTO:-0500
TZNAME:EST
DTSTART:20231105T060000
END:STANDARD
BEGIN:DAYLIGHT
TZOFFSETFROM:-0500
TZOFFSETTO:-0400
TZNAME:EDT
DTSTART:20240310T070000
END:DAYLIGHT
BEGIN:STANDARD
TZOFFSETFROM:-0400
TZOFFSETTO:-0500
TZNAME:EST
DTSTART:20241103T060000
END:STANDARD
BEGIN:DAYLIGHT
TZOFFSETFROM:-0500
TZOFFSETTO:-0400
TZNAME:EDT
DTSTART:20250309T070000
END:DAYLIGHT
BEGIN:STANDARD
TZOFFSETFROM:-0400
TZOFFSETTO:-0500
TZNAME:EST
DTSTART:20251102T060000
END:STANDARD
BEGIN:DAYLIGHT
TZOFFSETFROM:-0500
TZOFFSETTO:-0400
TZNAME:EDT
DTSTART:20260308T070000
END:DAYLIGHT
BEGIN:STANDARD
TZOFFSETFROM:-0400
TZOFFSETTO:-0500
TZNAME:EST
DTSTART:20261101T060000
END:STANDARD
BEGIN:DAYLIGHT
TZOFFSETFROM:-0500
TZOFFSETTO:-0400
TZNAME:EDT
DTSTART:20270314T070000
END:DAYLIGHT
BEGIN:STANDARD
TZOFFSETFROM:-0400
TZOFFSETTO:-0500
TZNAME:EST
DTSTART:20271107T060000
END:STANDARD
BEGIN:DAYLIGHT
TZOFFSETFROM:-0500
TZOFFSETTO:-0400
TZNAME:EDT
DTSTART:20280312T070000
END:DAYLIGHT
BEGIN:STANDARD
TZOFFSETFROM:-0400
TZOFFSETTO:-0500
TZNAME:EST
DTSTART:20281105T060000
END:STANDARD
END:VTIMEZONE
BEGIN:VEVENT
DTSTART;VALUE=DATE:20240104
DTEND;VALUE=DATE:20240105
DTSTAMP:20260423T042936
CREATED:20231220T170121Z
LAST-MODIFIED:20231220T180801Z
UID:9750-1704326400-1704412799@stoke.ca
SUMMARY:Collecte des matières recyclables
DESCRIPTION:
URL:https://stoke.ca/evenement/collecte-des-matieres-recyclables-3/
CATEGORIES:Collectes annuelles
END:VEVENT
BEGIN:VEVENT
DTSTART;VALUE=DATE:20240111
DTEND;VALUE=DATE:20240112
DTSTAMP:20260423T042936
CREATED:20231221T164702Z
LAST-MODIFIED:20231221T164953Z
UID:9779-1704931200-1705017599@stoke.ca
SUMMARY:Collecte des matières résiduelles - Secteur B
DESCRIPTION:
URL:https://stoke.ca/evenement/collecte-des-matieres-residuelles-secteur-b/
CATEGORIES:Collectes annuelles
END:VEVENT
BEGIN:VEVENT
DTSTART;VALUE=DATE:20251020
DTEND;VALUE=DATE:20270912
DTSTAMP:20260423T042936
CREATED:20231220T183429Z
LAST-MODIFIED:20231220T183429Z
UID:9752-1760918400-1820707199@stoke.ca
SUMMARY:Collecte du compost
DESCRIPTION:
URL:https://stoke.ca/evenement/collecte-du-compost-2/
CATEGORIES:Collectes annuelles
END:VEVENT
BEGIN:VEVENT
DTSTART;VALUE=DATE:20231227
DTEND;VALUE=DATE:20231228
DTSTAMP:20260423T042936
CREATED:20231220T204806Z
LAST-MODIFIED:20240109T182538Z
UID:9765-1703635200-1703721599@stoke.ca
SUMMARY:Séance du conseil municipal
DESCRIPTION:Pour accéder aux ordres du jour\, aux procès-verbaux ainsi qu’aux enregistrements des séances\, veuillez vous rendre au https://stoke.ca/municipalite/conseil-municipal/seances-du-conseil/.
URL:https://stoke.ca/evenement/seance-du-conseil-municipal-2022-07-04-2/
LOCATION:Hôtel de ville\, 403 rue Principale\, Stoke\, Québec\, J0B 3G0\, Canada
CATEGORIES:Séances du conseil
ATTACH;FMTTYPE=image/jpeg:https://stoke.ca/wp-content/uploads/2022/02/Images-pour-The-Event-Calendar-1.jpg
END:VEVENT
BEGIN:VEVENT
DTSTART;TZID=America/New_York:20231006T180000
DTEND;TZID=America/New_York:20231006T220000
DTSTAMP:20260423T042936
CREATED:20230203T160501Z
LAST-MODIFIED:20230203T161844Z
UID:7587-1696615200-1696629600@stoke.ca
SUMMARY:Vendredi juste pour ados
DESCRIPTION:
URL:https://stoke.ca/evenement/vendredi-juste-pour-ados/
LOCATION:Salle Les Sommets (centre communautaire)\, 387 rue Principale\, Stoke\, QC\, J0B 3G0\, Canada
CATEGORIES:C'est bon d'y participer
END:VEVENT
BEGIN:VEVENT
DTSTART;VALUE=DATE:20240104
DTEND;VALUE=DATE:20240105
DTSTAMP:20260423T042936
CREATED:20231221T163759Z
LAST-MODIFIED:20231221T164254Z
UID:9777-1704326400-1704412799@stoke.ca
SUMMARY:Collecte des matières résiduelles - Secteur A
DESCRIPTION:
URL:https://stoke.ca/evenement/collecte-des-ordures-2/
CATEGORIES:Collectes annuelles
END:VEVENT
BEGIN:VEVENT
DTSTART;VALUE=DATE:20240104
DTEND;VALUE=DATE:20240105
DTSTAMP:20260423T042936
CREATED:20231220T170121Z
LAST-MODIFIED:20231220T180801Z
UID:9750-1704326400-1704412799@stoke.ca
SUMMARY:Collecte des matières recyclables
DESCRIPTION:
URL:https://stoke.ca/evenement/collecte-des-matieres-recyclables-3/
CATEGORIES:Collectes annuelles
END:VEVENT
BEGIN:VEVENT
DTSTART;VALUE=DATE:20250726
DTEND;VALUE=DATE:20261102
DTSTAMP:20260423T042936
CREATED:20231220T185452Z
LAST-MODIFIED:20231220T191437Z
UID:9757-1753488000-1793577599@stoke.ca
SUMMARY:Collecte du compost-
DESCRIPTION:
URL:https://stoke.ca/evenement/collecte-du-compost-hebdo/
CATEGORIES:Collectes annuelles
END:VEVENT
BEGIN:VEVENT
DTSTART;VALUE=DATE:20240104
DTEND;VALUE=DATE:20240105
DTSTAMP:20260423T042936
CREATED:20231220T170121Z
LAST-MODIFIED:20231220T180801Z
UID:9750-1704326400-1704412799@stoke.ca
SUMMARY:Collecte des matières recyclables
DESCRIPTION:
URL:https://stoke.ca/evenement/collecte-des-matieres-recyclables-3/
CATEGORIES:Collectes annuelles
END:VEVENT
BEGIN:VEVENT
DTSTART;VALUE=DATE:20240111
DTEND;VALUE=DATE:20240112
DTSTAMP:20260423T042936
CREATED:20231221T164702Z
LAST-MODIFIED:20231221T164953Z
UID:9779-1704931200-1705017599@stoke.ca
SUMMARY:Collecte des matières résiduelles - Secteur B
DESCRIPTION:
URL:https://stoke.ca/evenement/collecte-des-matieres-residuelles-secteur-b/
CATEGORIES:Collectes annuelles
END:VEVENT
BEGIN:VEVENT
DTSTART;VALUE=DATE:20250726
DTEND;VALUE=DATE:20261102
DTSTAMP:20260423T042936
CREATED:20231220T185452Z
LAST-MODIFIED:20231220T191437Z
UID:9757-1753488000-1793577599@stoke.ca
SUMMARY:Collecte du compost-
DESCRIPTION:
URL:https://stoke.ca/evenement/collecte-du-compost-hebdo/
CATEGORIES:Collectes annuelles
END:VEVENT
BEGIN:VEVENT
DTSTART;VALUE=DATE:20231227
DTEND;VALUE=DATE:20231228
DTSTAMP:20260423T042936
CREATED:20231220T204806Z
LAST-MODIFIED:20240109T182538Z
UID:9765-1703635200-1703721599@stoke.ca
SUMMARY:Séance du conseil municipal
DESCRIPTION:Pour accéder aux ordres du jour\, aux procès-verbaux ainsi qu’aux enregistrements des séances\, veuillez vous rendre au https://stoke.ca/municipalite/conseil-municipal/seances-du-conseil/.
URL:https://stoke.ca/evenement/seance-du-conseil-municipal-2022-07-04-2/
LOCATION:Hôtel de ville\, 403 rue Principale\, Stoke\, Québec\, J0B 3G0\, Canada
CATEGORIES:Séances du conseil
ATTACH;FMTTYPE=image/jpeg:https://stoke.ca/wp-content/uploads/2022/02/Images-pour-The-Event-Calendar-1.jpg
END:VEVENT
BEGIN:VEVENT
DTSTART;VALUE=DATE:20240104
DTEND;VALUE=DATE:20240105
DTSTAMP:20260423T042936
CREATED:20231221T163759Z
LAST-MODIFIED:20231221T164254Z
UID:9777-1704326400-1704412799@stoke.ca
SUMMARY:Collecte des matières résiduelles - Secteur A
DESCRIPTION:
URL:https://stoke.ca/evenement/collecte-des-ordures-2/
CATEGORIES:Collectes annuelles
END:VEVENT
BEGIN:VEVENT
DTSTART;VALUE=DATE:20250726
DTEND;VALUE=DATE:20261102
DTSTAMP:20260423T042936
CREATED:20231220T185452Z
LAST-MODIFIED:20231220T191437Z
UID:9757-1753488000-1793577599@stoke.ca
SUMMARY:Collecte du compost-
DESCRIPTION:
URL:https://stoke.ca/evenement/collecte-du-compost-hebdo/
CATEGORIES:Collectes annuelles
END:VEVENT
BEGIN:VEVENT
DTSTART;VALUE=DATE:20240104
DTEND;VALUE=DATE:20240105
DTSTAMP:20260423T042936
CREATED:20231220T170121Z
LAST-MODIFIED:20231220T180801Z
UID:9750-1704326400-1704412799@stoke.ca
SUMMARY:Collecte des matières recyclables
DESCRIPTION:
URL:https://stoke.ca/evenement/collecte-des-matieres-recyclables-3/
CATEGORIES:Collectes annuelles
END:VEVENT
BEGIN:VEVENT
DTSTART;TZID=America/New_York:20231006T180000
DTEND;TZID=America/New_York:20231006T220000
DTSTAMP:20260423T042936
CREATED:20230203T160501Z
LAST-MODIFIED:20230203T161844Z
UID:7587-1696615200-1696629600@stoke.ca
SUMMARY:Vendredi juste pour ados
DESCRIPTION:
URL:https://stoke.ca/evenement/vendredi-juste-pour-ados/
LOCATION:Salle Les Sommets (centre communautaire)\, 387 rue Principale\, Stoke\, QC\, J0B 3G0\, Canada
CATEGORIES:C'est bon d'y participer
END:VEVENT
BEGIN:VEVENT
DTSTART;VALUE=DATE:20250726
DTEND;VALUE=DATE:20261102
DTSTAMP:20260423T042936
CREATED:20231220T185452Z
LAST-MODIFIED:20231220T191437Z
UID:9757-1753488000-1793577599@stoke.ca
SUMMARY:Collecte du compost-
DESCRIPTION:
URL:https://stoke.ca/evenement/collecte-du-compost-hebdo/
CATEGORIES:Collectes annuelles
END:VEVENT
BEGIN:VEVENT
DTSTART;VALUE=DATE:20250726
DTEND;VALUE=DATE:20261102
DTSTAMP:20260423T042936
CREATED:20231220T185452Z
LAST-MODIFIED:20231220T191437Z
UID:9757-1753488000-1793577599@stoke.ca
SUMMARY:Collecte du compost-
DESCRIPTION:
URL:https://stoke.ca/evenement/collecte-du-compost-hebdo/
CATEGORIES:Collectes annuelles
END:VEVENT
BEGIN:VEVENT
DTSTART;VALUE=DATE:20240104
DTEND;VALUE=DATE:20240105
DTSTAMP:20260423T042936
CREATED:20231220T170121Z
LAST-MODIFIED:20231220T180801Z
UID:9750-1704326400-1704412799@stoke.ca
SUMMARY:Collecte des matières recyclables
DESCRIPTION:
URL:https://stoke.ca/evenement/collecte-des-matieres-recyclables-3/
CATEGORIES:Collectes annuelles
END:VEVENT
BEGIN:VEVENT
DTSTART;VALUE=DATE:20240111
DTEND;VALUE=DATE:20240112
DTSTAMP:20260423T042936
CREATED:20231221T164702Z
LAST-MODIFIED:20231221T164953Z
UID:9779-1704931200-1705017599@stoke.ca
SUMMARY:Collecte des matières résiduelles - Secteur B
DESCRIPTION:
URL:https://stoke.ca/evenement/collecte-des-matieres-residuelles-secteur-b/
CATEGORIES:Collectes annuelles
END:VEVENT
BEGIN:VEVENT
DTSTART;VALUE=DATE:20250726
DTEND;VALUE=DATE:20261102
DTSTAMP:20260423T042936
CREATED:20231220T185452Z
LAST-MODIFIED:20231220T191437Z
UID:9757-1753488000-1793577599@stoke.ca
SUMMARY:Collecte du compost-
DESCRIPTION:
URL:https://stoke.ca/evenement/collecte-du-compost-hebdo/
CATEGORIES:Collectes annuelles
END:VEVENT
BEGIN:VEVENT
DTSTART;VALUE=DATE:20231227
DTEND;VALUE=DATE:20231228
DTSTAMP:20260423T042936
CREATED:20231220T204806Z
LAST-MODIFIED:20240109T182538Z
UID:9765-1703635200-1703721599@stoke.ca
SUMMARY:Séance du conseil municipal
DESCRIPTION:Pour accéder aux ordres du jour\, aux procès-verbaux ainsi qu’aux enregistrements des séances\, veuillez vous rendre au https://stoke.ca/municipalite/conseil-municipal/seances-du-conseil/.
URL:https://stoke.ca/evenement/seance-du-conseil-municipal-2022-07-04-2/
LOCATION:Hôtel de ville\, 403 rue Principale\, Stoke\, Québec\, J0B 3G0\, Canada
CATEGORIES:Séances du conseil
ATTACH;FMTTYPE=image/jpeg:https://stoke.ca/wp-content/uploads/2022/02/Images-pour-The-Event-Calendar-1.jpg
END:VEVENT
BEGIN:VEVENT
DTSTART;VALUE=DATE:20240104
DTEND;VALUE=DATE:20240105
DTSTAMP:20260423T042936
CREATED:20231221T163759Z
LAST-MODIFIED:20231221T164254Z
UID:9777-1704326400-1704412799@stoke.ca
SUMMARY:Collecte des matières résiduelles - Secteur A
DESCRIPTION:
URL:https://stoke.ca/evenement/collecte-des-ordures-2/
CATEGORIES:Collectes annuelles
END:VEVENT
BEGIN:VEVENT
DTSTART;VALUE=DATE:20250726
DTEND;VALUE=DATE:20261102
DTSTAMP:20260423T042936
CREATED:20231220T185452Z
LAST-MODIFIED:20231220T191437Z
UID:9757-1753488000-1793577599@stoke.ca
SUMMARY:Collecte du compost-
DESCRIPTION:
URL:https://stoke.ca/evenement/collecte-du-compost-hebdo/
CATEGORIES:Collectes annuelles
END:VEVENT
BEGIN:VEVENT
DTSTART;VALUE=DATE:20240104
DTEND;VALUE=DATE:20240105
DTSTAMP:20260423T042936
CREATED:20231220T170121Z
LAST-MODIFIED:20231220T180801Z
UID:9750-1704326400-1704412799@stoke.ca
SUMMARY:Collecte des matières recyclables
DESCRIPTION:
URL:https://stoke.ca/evenement/collecte-des-matieres-recyclables-3/
CATEGORIES:Collectes annuelles
END:VEVENT
BEGIN:VEVENT
DTSTART;TZID=America/New_York:20231006T180000
DTEND;TZID=America/New_York:20231006T220000
DTSTAMP:20260423T042936
CREATED:20230203T160501Z
LAST-MODIFIED:20230203T161844Z
UID:7587-1696615200-1696629600@stoke.ca
SUMMARY:Vendredi juste pour ados
DESCRIPTION:
URL:https://stoke.ca/evenement/vendredi-juste-pour-ados/
LOCATION:Salle Les Sommets (centre communautaire)\, 387 rue Principale\, Stoke\, QC\, J0B 3G0\, Canada
CATEGORIES:C'est bon d'y participer
END:VEVENT
BEGIN:VEVENT
DTSTART;VALUE=DATE:20250726
DTEND;VALUE=DATE:20261102
DTSTAMP:20260423T042936
CREATED:20231220T185452Z
LAST-MODIFIED:20231220T191437Z
UID:9757-1753488000-1793577599@stoke.ca
SUMMARY:Collecte du compost-
DESCRIPTION:
URL:https://stoke.ca/evenement/collecte-du-compost-hebdo/
CATEGORIES:Collectes annuelles
END:VEVENT
BEGIN:VEVENT
DTSTART;VALUE=DATE:20250726
DTEND;VALUE=DATE:20261102
DTSTAMP:20260423T042936
CREATED:20231220T185452Z
LAST-MODIFIED:20231220T191437Z
UID:9757-1753488000-1793577599@stoke.ca
SUMMARY:Collecte du compost-
DESCRIPTION:
URL:https://stoke.ca/evenement/collecte-du-compost-hebdo/
CATEGORIES:Collectes annuelles
END:VEVENT
BEGIN:VEVENT
DTSTART;VALUE=DATE:20240104
DTEND;VALUE=DATE:20240105
DTSTAMP:20260423T042936
CREATED:20231220T170121Z
LAST-MODIFIED:20231220T180801Z
UID:9750-1704326400-1704412799@stoke.ca
SUMMARY:Collecte des matières recyclables
DESCRIPTION:
URL:https://stoke.ca/evenement/collecte-des-matieres-recyclables-3/
CATEGORIES:Collectes annuelles
END:VEVENT
BEGIN:VEVENT
DTSTART;VALUE=DATE:20240111
DTEND;VALUE=DATE:20240112
DTSTAMP:20260423T042936
CREATED:20231221T164702Z
LAST-MODIFIED:20231221T164953Z
UID:9779-1704931200-1705017599@stoke.ca
SUMMARY:Collecte des matières résiduelles - Secteur B
DESCRIPTION:
URL:https://stoke.ca/evenement/collecte-des-matieres-residuelles-secteur-b/
CATEGORIES:Collectes annuelles
END:VEVENT
END:VCALENDAR