BEGIN:VCALENDAR
VERSION:2.0
PRODID:-//La Municipalité de Stoke - ECPv6.15.20//NONSGML v1.0//EN
CALSCALE:GREGORIAN
METHOD:PUBLISH
X-WR-CALNAME:La Municipalité de Stoke
X-ORIGINAL-URL:https://stoke.ca
X-WR-CALDESC:Évènements pour La Municipalité de Stoke
REFRESH-INTERVAL;VALUE=DURATION:PT1H
X-Robots-Tag:noindex
X-PUBLISHED-TTL:PT1H
BEGIN:VTIMEZONE
TZID:America/New_York
BEGIN:DAYLIGHT
TZOFFSETFROM:-0500
TZOFFSETTO:-0400
TZNAME:EDT
DTSTART:20250309T070000
END:DAYLIGHT
BEGIN:STANDARD
TZOFFSETFROM:-0400
TZOFFSETTO:-0500
TZNAME:EST
DTSTART:20251102T060000
END:STANDARD
BEGIN:DAYLIGHT
TZOFFSETFROM:-0500
TZOFFSETTO:-0400
TZNAME:EDT
DTSTART:20260308T070000
END:DAYLIGHT
BEGIN:STANDARD
TZOFFSETFROM:-0400
TZOFFSETTO:-0500
TZNAME:EST
DTSTART:20261101T060000
END:STANDARD
BEGIN:DAYLIGHT
TZOFFSETFROM:-0500
TZOFFSETTO:-0400
TZNAME:EDT
DTSTART:20270314T070000
END:DAYLIGHT
BEGIN:STANDARD
TZOFFSETFROM:-0400
TZOFFSETTO:-0500
TZNAME:EST
DTSTART:20271107T060000
END:STANDARD
END:VTIMEZONE
BEGIN:VEVENT
DTSTART;TZID=America/New_York:20260421T190000
DTEND;TZID=America/New_York:20260421T210000
DTSTAMP:20260419T201703
CREATED:20260415T150716Z
LAST-MODIFIED:20260415T150730Z
UID:10000798-1776798000-1776805200@stoke.ca
SUMMARY:Consultation publique - Projet de règlement no 633 sur l'occupation et l'entretien de bâtiment
DESCRIPTION:
URL:https://stoke.ca/evenement/consultation-publique-projet-de-reglement-no-633-sur-loccupation-et-lentretien-des-batiments/
LOCATION:Centre communautaire\, 387 rue Principale\, Stoke\, quebec\, j0b3g0\, Canada
CATEGORIES:Consultations publiques
END:VEVENT
BEGIN:VEVENT
DTSTART;TZID=America/New_York:20260511T190000
DTEND;TZID=America/New_York:20260511T203000
DTSTAMP:20260419T201703
CREATED:20251127T210006Z
LAST-MODIFIED:20251127T213308Z
UID:10000788-1778526000-1778531400@stoke.ca
SUMMARY:Séance du conseil municipal 2026
DESCRIPTION:Pour accéder aux ordres du jour\, aux procès-verbaux ainsi qu’aux enregistrements des séances\, veuillez vous rendre au https://stoke.ca/municipalite/conseil-municipal/seances-du-conseil/.
URL:https://stoke.ca/evenement/seance-du-conseil-municipal-2026/2026-05-11/
LOCATION:Hôtel de ville\, 403 rue Principale\, Stoke\, Québec\, J0B 3G0\, Canada
CATEGORIES:Séances du conseil
ATTACH;FMTTYPE=image/jpeg:https://stoke.ca/wp-content/uploads/2022/02/Images-pour-The-Event-Calendar-1.jpg
END:VEVENT
BEGIN:VEVENT
DTSTART;TZID=America/New_York:20260608T190000
DTEND;TZID=America/New_York:20260608T203000
DTSTAMP:20260419T201703
CREATED:20251127T210006Z
LAST-MODIFIED:20251127T213308Z
UID:10000789-1780945200-1780950600@stoke.ca
SUMMARY:Séance du conseil municipal 2026
DESCRIPTION:Pour accéder aux ordres du jour\, aux procès-verbaux ainsi qu’aux enregistrements des séances\, veuillez vous rendre au https://stoke.ca/municipalite/conseil-municipal/seances-du-conseil/.
URL:https://stoke.ca/evenement/seance-du-conseil-municipal-2026/2026-06-08/
LOCATION:Hôtel de ville\, 403 rue Principale\, Stoke\, Québec\, J0B 3G0\, Canada
CATEGORIES:Séances du conseil
ATTACH;FMTTYPE=image/jpeg:https://stoke.ca/wp-content/uploads/2022/02/Images-pour-The-Event-Calendar-1.jpg
END:VEVENT
BEGIN:VEVENT
DTSTART;TZID=America/New_York:20260706T190000
DTEND;TZID=America/New_York:20260706T203000
DTSTAMP:20260419T201703
CREATED:20251127T210006Z
LAST-MODIFIED:20251127T213308Z
UID:10000790-1783364400-1783369800@stoke.ca
SUMMARY:Séance du conseil municipal 2026
DESCRIPTION:Pour accéder aux ordres du jour\, aux procès-verbaux ainsi qu’aux enregistrements des séances\, veuillez vous rendre au https://stoke.ca/municipalite/conseil-municipal/seances-du-conseil/.
URL:https://stoke.ca/evenement/seance-du-conseil-municipal-2026/2026-07-06/
LOCATION:Hôtel de ville\, 403 rue Principale\, Stoke\, Québec\, J0B 3G0\, Canada
CATEGORIES:Séances du conseil
ATTACH;FMTTYPE=image/jpeg:https://stoke.ca/wp-content/uploads/2022/02/Images-pour-The-Event-Calendar-1.jpg
END:VEVENT
BEGIN:VEVENT
DTSTART;TZID=America/New_York:20260810T190000
DTEND;TZID=America/New_York:20260810T203000
DTSTAMP:20260419T201703
CREATED:20251127T210006Z
LAST-MODIFIED:20251127T213308Z
UID:10000791-1786388400-1786393800@stoke.ca
SUMMARY:Séance du conseil municipal 2026
DESCRIPTION:Pour accéder aux ordres du jour\, aux procès-verbaux ainsi qu’aux enregistrements des séances\, veuillez vous rendre au https://stoke.ca/municipalite/conseil-municipal/seances-du-conseil/.
URL:https://stoke.ca/evenement/seance-du-conseil-municipal-2026/2026-08-10/
LOCATION:Hôtel de ville\, 403 rue Principale\, Stoke\, Québec\, J0B 3G0\, Canada
CATEGORIES:Séances du conseil
ATTACH;FMTTYPE=image/jpeg:https://stoke.ca/wp-content/uploads/2022/02/Images-pour-The-Event-Calendar-1.jpg
END:VEVENT
BEGIN:VEVENT
DTSTART;TZID=America/New_York:20260914T190000
DTEND;TZID=America/New_York:20260914T203000
DTSTAMP:20260419T201703
CREATED:20251127T210006Z
LAST-MODIFIED:20251127T213308Z
UID:10000792-1789412400-1789417800@stoke.ca
SUMMARY:Séance du conseil municipal 2026
DESCRIPTION:Pour accéder aux ordres du jour\, aux procès-verbaux ainsi qu’aux enregistrements des séances\, veuillez vous rendre au https://stoke.ca/municipalite/conseil-municipal/seances-du-conseil/.
URL:https://stoke.ca/evenement/seance-du-conseil-municipal-2026/2026-09-14/
LOCATION:Hôtel de ville\, 403 rue Principale\, Stoke\, Québec\, J0B 3G0\, Canada
CATEGORIES:Séances du conseil
ATTACH;FMTTYPE=image/jpeg:https://stoke.ca/wp-content/uploads/2022/02/Images-pour-The-Event-Calendar-1.jpg
END:VEVENT
BEGIN:VEVENT
DTSTART;TZID=America/New_York:20261013T190000
DTEND;TZID=America/New_York:20261013T203000
DTSTAMP:20260419T201703
CREATED:20251127T210006Z
LAST-MODIFIED:20251127T213308Z
UID:10000793-1791918000-1791923400@stoke.ca
SUMMARY:Séance du conseil municipal 2026
DESCRIPTION:Pour accéder aux ordres du jour\, aux procès-verbaux ainsi qu’aux enregistrements des séances\, veuillez vous rendre au https://stoke.ca/municipalite/conseil-municipal/seances-du-conseil/.
URL:https://stoke.ca/evenement/seance-du-conseil-municipal-2026/2026-10-13/
LOCATION:Hôtel de ville\, 403 rue Principale\, Stoke\, Québec\, J0B 3G0\, Canada
CATEGORIES:Séances du conseil
ATTACH;FMTTYPE=image/jpeg:https://stoke.ca/wp-content/uploads/2022/02/Images-pour-The-Event-Calendar-1.jpg
END:VEVENT
BEGIN:VEVENT
DTSTART;TZID=America/New_York:20261109T190000
DTEND;TZID=America/New_York:20261109T203000
DTSTAMP:20260419T201703
CREATED:20251127T210006Z
LAST-MODIFIED:20251127T213308Z
UID:10000794-1794250800-1794256200@stoke.ca
SUMMARY:Séance du conseil municipal 2026
DESCRIPTION:Pour accéder aux ordres du jour\, aux procès-verbaux ainsi qu’aux enregistrements des séances\, veuillez vous rendre au https://stoke.ca/municipalite/conseil-municipal/seances-du-conseil/.
URL:https://stoke.ca/evenement/seance-du-conseil-municipal-2026/2026-11-09/
LOCATION:Hôtel de ville\, 403 rue Principale\, Stoke\, Québec\, J0B 3G0\, Canada
CATEGORIES:Séances du conseil
ATTACH;FMTTYPE=image/jpeg:https://stoke.ca/wp-content/uploads/2022/02/Images-pour-The-Event-Calendar-1.jpg
END:VEVENT
BEGIN:VEVENT
DTSTART;TZID=America/New_York:20261214T190000
DTEND;TZID=America/New_York:20261214T203000
DTSTAMP:20260419T201703
CREATED:20251127T210006Z
LAST-MODIFIED:20251127T213308Z
UID:10000795-1797274800-1797280200@stoke.ca
SUMMARY:Séance du conseil municipal 2026
DESCRIPTION:Pour accéder aux ordres du jour\, aux procès-verbaux ainsi qu’aux enregistrements des séances\, veuillez vous rendre au https://stoke.ca/municipalite/conseil-municipal/seances-du-conseil/.
URL:https://stoke.ca/evenement/seance-du-conseil-municipal-2026/2026-12-14/
LOCATION:Hôtel de ville\, 403 rue Principale\, Stoke\, Québec\, J0B 3G0\, Canada
CATEGORIES:Séances du conseil
ATTACH;FMTTYPE=image/jpeg:https://stoke.ca/wp-content/uploads/2022/02/Images-pour-The-Event-Calendar-1.jpg
END:VEVENT
END:VCALENDAR